BEGIN:VCALENDAR
VERSION:2.0
PRODID:-//wp-events-plugin.com//7.2.3.1//EN
TZID:America/Indiana/Indianapolis
X-WR-TIMEZONE:America/Indiana/Indianapolis
BEGIN:VEVENT
UID:1359@totherescuein.com
DTSTART;TZID=America/Indiana/Indianapolis:20250507T140000
DTEND;TZID=America/Indiana/Indianapolis:20250507T150000
DTSTAMP:20250420T000028Z
URL:https://totherescuein.com/events/the-social-circle-spring-visitor-day-
 wed-may-7-2-3-pm-parks-place-pub/
SUMMARY:The Social Circle Spring  Visitor Day- Wed May 7\, 2-3 pm\, Parks P
 lace Pub!
DESCRIPTION:Welcome to The Social Circle Networking Group Spring Visitor's 
 Day!\nIf you are looking for a networking group that’s is anything but o
 rdinary\, please join us! We are a charismatic and servant-minded group\, 
 looking to enrich not only the lives (and businesses) of our members\, but
  also our community. As committed and passionate business leaders\, we are
  here to help you grow.\nThis Visitor's Day is all about getting to know e
 ach other and making warm introductions!\nWe even have a few door prizes t
 o give away!\nWe are an industry-exclusive networking group\, so some popu
 lar positions may already be filled. However\, we can connect you to other
  groups that may have openings. We are VERY focused on growing each other
 ’s businesses and promoting our businesses.\nRegister Now!\n\nhttps://ww
 w.eventbrite.com/e/the-social-circle-spring-visitor-day-wed-may-7-2-3-pm-p
 arks-place-pub-tickets-1332030642509?aff=oddtdtcreator\n\nWe will See You 
 on Wednesday\, May 7\,2025- 2-3 pm at Parks Place Pub!
ATTACH;FMTTYPE=image/jpeg:https://totherescuein.com/wp-content/uploads/202
 5/04/The-Social-Circle-Eventbrite-2160-x-1080-px.png
CATEGORIES:Featured Event,Networking
END:VEVENT
BEGIN:VTIMEZONE
TZID:America/Indiana/Indianapolis
X-LIC-LOCATION:America/Indiana/Indianapolis
BEGIN:DAYLIGHT
DTSTART:20250309T030000
TZOFFSETFROM:-0500
TZOFFSETTO:-0400
TZNAME:EDT
END:DAYLIGHT
END:VTIMEZONE
END:VCALENDAR