BEGIN:VCALENDAR
VERSION:2.0
PRODID:-//wp-events-plugin.com//7.2.3.1//EN
TZID:America/Indiana/Indianapolis
X-WR-TIMEZONE:America/Indiana/Indianapolis
BEGIN:VEVENT
UID:1214@totherescuein.com
DTSTART;TZID=America/Indiana/Indianapolis:20251118T180000
DTEND;TZID=America/Indiana/Indianapolis:20251118T193000
DTSTAMP:20250109T223005Z
URL:https://totherescuein.com/events/collaborating-connections-on-zoom-2-2
 025-11-18/
SUMMARY:Collaborating Connections on Zoom
DESCRIPTION:Collaborating Connections on Zoom meets Tuesday evenings from 6
 pm - 7:30.
ATTACH;FMTTYPE=image/jpeg:https://totherescuein.com/wp-content/uploads/202
 5/01/CollaboratingConnections-O-300x300-1.jpg
CATEGORIES:Networking
END:VEVENT
BEGIN:VTIMEZONE
TZID:America/Indiana/Indianapolis
X-LIC-LOCATION:America/Indiana/Indianapolis
BEGIN:STANDARD
DTSTART:20251102T010000
TZOFFSETFROM:-0400
TZOFFSETTO:-0500
TZNAME:EST
END:STANDARD
END:VTIMEZONE
END:VCALENDAR